BEGIN:VCALENDAR
VERSION:2.0
PRODID:-//The Majestic Theatre - ECPv5.7.0//NONSGML v1.0//EN
CALSCALE:GREGORIAN
METHOD:PUBLISH
X-WR-CALNAME:The Majestic Theatre
X-ORIGINAL-URL:https://majestic.dallasculture.org
X-WR-CALDESC:Events for The Majestic Theatre
BEGIN:VTIMEZONE
TZID:America/Chicago
BEGIN:DAYLIGHT
TZOFFSETFROM:-0600
TZOFFSETTO:-0500
TZNAME:CDT
DTSTART:20260308T080000
END:DAYLIGHT
BEGIN:STANDARD
TZOFFSETFROM:-0500
TZOFFSETTO:-0600
TZNAME:CST
DTSTART:20261101T070000
END:STANDARD
END:VTIMEZONE
BEGIN:VEVENT
DTSTART;TZID=America/Chicago:20260212T193000
DTEND;TZID=America/Chicago:20260212T213000
DTSTAMP:20260421T175337
CREATED:20260114T163405Z
LAST-MODIFIED:20260114T163405Z
UID:837-1770924600-1770931800@majestic.dallasculture.org
SUMMARY:Casablanca - Screening at The Majestic!
DESCRIPTION:Doors: 6:30PM \nFilm: 7:30PM \nWe’ll always have Paris \nHumphrey Bogart & Ingrid Bergman return to downtown Dallas for Valentine’s season at the Majestic + the short subject cartoon Carrotblanca screens before the feature. \nPresented by Aviation Mobile Cinema & Cowtown Movie Classics
URL:https://majestic.dallasculture.org/event-widget/casablanca-screening-at-the-majestic/
END:VEVENT
END:VCALENDAR