BEGIN:VCALENDAR
VERSION:2.0
PRODID:-//The Majestic Theatre - ECPv5.7.0//NONSGML v1.0//EN
CALSCALE:GREGORIAN
METHOD:PUBLISH
X-WR-CALNAME:The Majestic Theatre
X-ORIGINAL-URL:https://majestic.dallasculture.org
X-WR-CALDESC:Events for The Majestic Theatre
BEGIN:VTIMEZONE
TZID:America/Chicago
BEGIN:DAYLIGHT
TZOFFSETFROM:-0600
TZOFFSETTO:-0500
TZNAME:CDT
DTSTART:20260308T080000
END:DAYLIGHT
BEGIN:STANDARD
TZOFFSETFROM:-0500
TZOFFSETTO:-0600
TZNAME:CST
DTSTART:20261101T070000
END:STANDARD
END:VTIMEZONE
BEGIN:VEVENT
DTSTART;TZID=America/Chicago:20261017T193000
DTEND;TZID=America/Chicago:20261017T220000
DTSTAMP:20260421T175125
CREATED:20260128T164819Z
LAST-MODIFIED:20260128T164819Z
UID:862-1792265400-1792274400@majestic.dallasculture.org
SUMMARY:Leonid & Friends
DESCRIPTION:  \nOn Sale: Friday\, January 30 at 10am  \n  \nDoors:  6:30pm \nShow: 7:30pm \n  \nLeonid & Friends is a globally acclaimed\, genre-defying 11-piece collective renowned for their astonishingly precise recreations of classic Chicago songs\, alongside high-energy performances of other rock\, pop\, and jazz-fusion hits from the 1970s. Formed by multi-talented musician and producer Leonid Vorobyev\, the group features elite vocalists and instrumentalists from Russia\, Ukraine\, Moldova\, and beyond—united by a shared passion for celebrating this iconic era of music. \nOriginally conceived as a studio project in Moscow\, Leonid & Friends skyrocketed to international fame when their note-perfect video covers went viral online\, earning praise from members of Chicago themselves. What began as a YouTube phenomenon has since evolved into a world-class touring act\, captivating audiences across North America\, Europe\, and Asia. With over 500 million combined video views\, multiple sold-out U.S. tours\, and a devoted global fanbase\, the band is beloved worldwide for honoring the classics while expanding far beyond them—reviving the sound\, spirit\, and joy of a generation with unmatched musicianship and heart. \nIn concert\, Leonid & Friends deliver a stunningly authentic and exhilarating experience\, complete with a razor-tight horn section\, rich vocal harmonies\, and unmistakable rock & roll soul. Fans can expect timeless anthems like “25 or 6 to 4\,” “Make Me Smile\,” “Does Anybody Really Know What Time It Is?\,” “Feelin’ Stronger Every Day\,” “Beginnings\,” “Questions 67 & 68\,” and “Hard to Say I’m Sorry / Get Away\,” along with select surprises from an ever-expanding repertoire that includes Earth\, Wind & Fire\, Blood\, Sweat &Tears\, Steely Dan\, The Carpenters\, and other beloved ’70s favorites. \nEach performance is more than a tribute concert—it’s a joyous celebration of the music that defined an era.
URL:https://majestic.dallasculture.org/event-widget/leonid-friends/
LOCATION:Majestic Theatre\, 1925 Elm Street\, Dallas\, TX\, 75201\, United States
END:VEVENT
END:VCALENDAR