BEGIN:VCALENDAR
VERSION:2.0
PRODID:-//The Majestic Theatre - ECPv5.7.0//NONSGML v1.0//EN
CALSCALE:GREGORIAN
METHOD:PUBLISH
X-WR-CALNAME:The Majestic Theatre
X-ORIGINAL-URL:https://majestic.dallasculture.org
X-WR-CALDESC:Events for The Majestic Theatre
BEGIN:VTIMEZONE
TZID:America/Chicago
BEGIN:DAYLIGHT
TZOFFSETFROM:-0600
TZOFFSETTO:-0500
TZNAME:CDT
DTSTART:20260308T080000
END:DAYLIGHT
BEGIN:STANDARD
TZOFFSETFROM:-0500
TZOFFSETTO:-0600
TZNAME:CST
DTSTART:20261101T070000
END:STANDARD
END:VTIMEZONE
BEGIN:VEVENT
DTSTART;TZID=America/Chicago:20260117T190000
DTEND;TZID=America/Chicago:20260117T213000
DTSTAMP:20260421T192341
CREATED:20260116T184954Z
LAST-MODIFIED:20260116T184954Z
UID:853-1768676400-1768685400@majestic.dallasculture.org
SUMMARY:Matt McCusker: Healing Frequency Tour
DESCRIPTION:Doors: 6pm \nShow: 7pm \nVenue Presale:  Wednesday\, November 19th at 10:00am local through Thursday\, November 20th at 10pm local | Code: COMEDYPublic On Sale:  Friday\, November 21 at 10am local
URL:https://majestic.dallasculture.org/event-widget/matt-mccusker-healing-frequency-tour/
LOCATION:Majestic Theatre\, 1925 Elm Street\, Dallas\, TX\, 75201\, United States
ATTACH;FMTTYPE=image/png:https://oca-media.s3.us-east-2.amazonaws.com/wp-content/uploads/sites/2/2026/01/1763474789912a7e82c2741.png
END:VEVENT
END:VCALENDAR